BEGIN:VCALENDAR
VERSION:2.0
PRODID:-//wp-events-plugin.com//6.6.3//EN
TZID:Europe/Berlin
X-WR-TIMEZONE:Europe/Berlin
BEGIN:VEVENT
UID:324@slv-gewerkschaft.de
DTSTART;TZID=Europe/Berlin:20210313T153000
DTEND;TZID=Europe/Berlin:20210313T220000
DTSTAMP:20210203T132123Z
URL:https://slv-gewerkschaft.de/veranstaltungen/festveranstaltung-mit-silb
 ermond-im-icc-dresden/
SUMMARY:Festveranstaltung mit SILBERMOND im ICC Dresden
DESCRIPTION:
CATEGORIES:Fachverbände,Kreisverbände,KV Annaberg,KV
 Aue-Schwarzenberg,KV Bautzen,KV Bischofswerda,KV Borna-Geithain,KV
 Chemnitz-Land,KV Chemnitz-Stadt,KV Döbeln,KV Dresden-Stadt,KV Freiberg,KV
 Glauchau-Hohenstein-Ernstthal,KV Kamenz-Hoyerswerda,KV Leipzig,KV
 Löbau-Zittau,KV Meißen-Dresden-Land,KV Mittleres Erzgebirge,KV
 Muldentalkreis,KV Niesky-Görlitz,KV Nordsachsen,KV Plauen/Oelsnitz,KV
 Riesa-Großenhain,KV Sächsische Schweiz,KV Stollberg,KV Vogtlandkreis,KV
 Weißeritzkreis,KV Weißwasser,KV Zwickau
LOCATION:Internationales Congress Center\, Ostra-Ufer 2\, Dresden\, Deutsch
 land
GEO:51.0586674;13.731367500000033
X-APPLE-STRUCTURED-LOCATION;VALUE=URI;X-ADDRESS=Ostra-Ufer 2\, Dresden\, De
 utschland;X-APPLE-RADIUS=100;X-TITLE=Internationales Congress Center:geo:5
 1.0586674,13.731367500000033
END:VEVENT
BEGIN:VTIMEZONE
TZID:Europe/Berlin
X-LIC-LOCATION:Europe/Berlin
BEGIN:STANDARD
DTSTART:20201025T020000
TZOFFSETFROM:+0200
TZOFFSETTO:+0100
TZNAME:CET
END:STANDARD
END:VTIMEZONE
END:VCALENDAR