BEGIN:VCALENDAR
VERSION:2.0
PRODID:-//wp-events-plugin.com//6.6.3//EN
TZID:Europe/Berlin
X-WR-TIMEZONE:Europe/Berlin
BEGIN:VEVENT
UID:331@slv-gewerkschaft.de
DTSTART;TZID=Europe/Berlin:20200316T193000
DTEND;TZID=Europe/Berlin:20200316T220000
DTSTAMP:20200121T105752Z
URL:https://slv-gewerkschaft.de/veranstaltungen/juergen-haase-ralf-herzog-
 knigge-reloaded/
SUMMARY:JÜRGEN HAASE & RALF HERZOG - Knigge reloaded
DESCRIPTION:
CATEGORIES:Kreisverbände,KV Meißen-Dresden-Land
END:VEVENT
BEGIN:VTIMEZONE
TZID:Europe/Berlin
X-LIC-LOCATION:Europe/Berlin
BEGIN:STANDARD
DTSTART:20191027T020000
TZOFFSETFROM:+0200
TZOFFSETTO:+0100
TZNAME:CET
END:STANDARD
END:VTIMEZONE
END:VCALENDAR