BEGIN:VCALENDAR
VERSION:2.0
PRODID:-//wp-events-plugin.com//6.6.3//EN
TZID:Europe/Berlin
X-WR-TIMEZONE:Europe/Berlin
BEGIN:VEVENT
UID:1281@slv-gewerkschaft.de
DTSTART;TZID=Europe/Berlin:20260521T093000
DTEND;TZID=Europe/Berlin:20260521T150000
DTSTAMP:20260402T075704Z
URL:https://slv-gewerkschaft.de/veranstaltungen/schulung-fuer-personalraet
 e-und-deren-stufenvertretungen-an-foerderschulen-4/
SUMMARY:Schulung für Personalräte und deren Stufenvertretungen an Förder
 schulen
DESCRIPTION:
CATEGORIES:Bautzen,Chemnitz,Dresden,Fachverbände,FV
 Förderschulen,Leipzig,PR-Schulung,Zwickau
LOCATION:Taste Hotel Dresden\, Mobschatzer Str. 29\, Dresden\, 01157\, Deut
 schland
GEO:51.059616;13.679151
X-APPLE-STRUCTURED-LOCATION;VALUE=URI;X-ADDRESS=Mobschatzer Str. 29\, Dresd
 en\, 01157\, Deutschland;X-APPLE-RADIUS=100;X-TITLE=Taste Hotel Dresden:ge
 o:51.059616,13.679151
END:VEVENT
BEGIN:VTIMEZONE
TZID:Europe/Berlin
X-LIC-LOCATION:Europe/Berlin
BEGIN:DAYLIGHT
DTSTART:20260329T030000
TZOFFSETFROM:+0100
TZOFFSETTO:+0200
TZNAME:CEST
END:DAYLIGHT
END:VTIMEZONE
END:VCALENDAR