BEGIN:VCALENDAR
VERSION:2.0
PRODID:-//wp-events-plugin.com//6.6.3//EN
TZID:Europe/Berlin
X-WR-TIMEZONE:Europe/Berlin
BEGIN:VEVENT
UID:783@slv-gewerkschaft.de
DTSTART;TZID=Europe/Berlin:20240109T160000
DTEND;TZID=Europe/Berlin:20240109T190000
DTSTAMP:20230703T082846Z
URL:https://slv-gewerkschaft.de/veranstaltungen/stammtisch-im-cafe-grundma
 nn-in-leipzig/
SUMMARY:Stammtisch im Café Grundmann in Leipzig
DESCRIPTION:
CATEGORIES:Kreisverbände,KV Leipzig,KV Muldentalkreis
END:VEVENT
BEGIN:VTIMEZONE
TZID:Europe/Berlin
X-LIC-LOCATION:Europe/Berlin
BEGIN:STANDARD
DTSTART:20231029T020000
TZOFFSETFROM:+0200
TZOFFSETTO:+0100
TZNAME:CET
END:STANDARD
END:VTIMEZONE
END:VCALENDAR