BEGIN:VCALENDAR
VERSION:2.0
PRODID:-//wp-events-plugin.com//6.6.3//EN
TZID:Europe/Berlin
X-WR-TIMEZONE:Europe/Berlin
BEGIN:VEVENT
UID:824@slv-gewerkschaft.de
DTSTART;TZID=Europe/Berlin:20231202T110000
DTEND;TZID=Europe/Berlin:20231202T110000
DTSTAMP:20230829T125658Z
URL:https://slv-gewerkschaft.de/veranstaltungen/weihnachtsveranstaltung/
SUMMARY:Weihnachtsveranstaltung
DESCRIPTION:
CATEGORIES:Kreisverbände,KV Dresden-Stadt
END:VEVENT
BEGIN:VTIMEZONE
TZID:Europe/Berlin
X-LIC-LOCATION:Europe/Berlin
BEGIN:STANDARD
DTSTART:20231029T020000
TZOFFSETFROM:+0200
TZOFFSETTO:+0100
TZNAME:CET
END:STANDARD
END:VTIMEZONE
END:VCALENDAR